BEGIN:VCALENDAR
VERSION:2.0
PRODID:-//Brew NH - ECPv5.16.3.1//NONSGML v1.0//EN
CALSCALE:GREGORIAN
METHOD:PUBLISH
X-WR-CALNAME:Brew NH
X-ORIGINAL-URL:https://www.nhbeer.org
X-WR-CALDESC:Events for Brew NH
BEGIN:VTIMEZONE
TZID:UTC
BEGIN:STANDARD
TZOFFSETFROM:+0000
TZOFFSETTO:+0000
TZNAME:UTC
DTSTART:20170101T000000
END:STANDARD
END:VTIMEZONE
BEGIN:VEVENT
DTSTART;TZID=UTC:20170404T160000
DTEND;TZID=UTC:20170404T230000
DTSTAMP:20260421T090904
CREATED:20170404T161410Z
LAST-MODIFIED:20170404T161410Z
UID:1914-1491321600-1491346800@www.nhbeer.org
SUMMARY:I.P.April at WHYM Craft Beer Cafe
DESCRIPTION:We are rocking an all IPA draft list starting the first week of April.\nHow long will it go? Well\, thats up to how fast you drink them.\nHoppy appearances by:\nStoneface Brewing Co. Full Blip\nGreat Rhythm Brewing Company Tropic Haze\nGarrison City Beerworks Edison DIPA\nRockingham Brewing Company Lean IPA\nNew Belgium Brewing La Terroir/Voddo\nStone Brewing Enjoy By\nMoat Mountain Smoke House & Brewing Co. Call it a day DIPA\nDogfish Head 120m\nBanded Horn Brewing Co.Daikaiju\nMaine Beer Company Lunch\nAlpine Beer Company Windows Up\nSmuttynose Brewing Company Smuttlabs – Hatchling\n  \n#NHBeer #NHCBW2017 #NHBrewers
URL:https://www.nhbeer.org/event/p-april-whym-craft-beer-cafe/
LOCATION:WHYM Craft Beer Cafe\, 3548 Lafayette Rd\, Portsmouth\, NH\, 03801\, United States
CATEGORIES:NHCBW,Tap Takeover
ATTACH;FMTTYPE=image/jpeg:https://www.nhbeer.org/wp-content/uploads/2017/04/17629891_1145797795548747_2977847427718769691_n.jpg
END:VEVENT
END:VCALENDAR