BEGIN:VCALENDAR
VERSION:2.0
PRODID:-//Brew NH - ECPv5.16.3.1//NONSGML v1.0//EN
CALSCALE:GREGORIAN
METHOD:PUBLISH
X-WR-CALNAME:Brew NH
X-ORIGINAL-URL:https://www.nhbeer.org
X-WR-CALDESC:Events for Brew NH
BEGIN:VTIMEZONE
TZID:UTC
BEGIN:STANDARD
TZOFFSETFROM:+0000
TZOFFSETTO:+0000
TZNAME:UTC
DTSTART:20170101T000000
END:STANDARD
END:VTIMEZONE
BEGIN:VEVENT
DTSTART;TZID=UTC:20170708T200000
DTEND;TZID=UTC:20170709T000000
DTSTAMP:20260421T120706
CREATED:20170728T150217Z
LAST-MODIFIED:20170728T150217Z
UID:1997-1499544000-1499558400@www.nhbeer.org
SUMMARY:A Brew with a View ~ Brewfest at Steele Hill Resort
DESCRIPTION:Join us under the Large Venue Tent at Steele Hill Resorts for “A Brew with a View”\, the Lakes Region’s favorite brewfest. Featuring 30+ Local New England brewers and other specialty beers and spirits\, our 3rd annual Brewfest is the perfect way to enjoy a weekend with friends. Specialty tastings will be offered 4 – 5PM with VIP tickets and general admission runs from 5 – 7PM with a free concert kicking off 5:30 – 8PM to close out the festivities. \nFor more information and videos and photos of previous years visit: ABrewWithAView.com\nFor Tickets\, go to: https://www.tickettailor.com/checkout/view-event/id/90883/chk/b130
URL:https://www.nhbeer.org/event/brew-view-brewfest-steele-hill-resort/
LOCATION:Steele Hill Resort\, 516 Steele Hill Road\, Sanbornton\, NH\, 03269\, United States
CATEGORIES:Beer Festival
ATTACH;FMTTYPE=image/png:https://www.nhbeer.org/wp-content/uploads/2017/04/logo_v1.png
ORGANIZER;CN="Steele%20Hill%20Resort":MAILTO:info@steelehillresorts.com
END:VEVENT
END:VCALENDAR